BEGIN:VCALENDAR
VERSION:2.0
PRODID:-//Sportschützenverein 1926 Weiler e.V. - ECPv6.15.18//NONSGML v1.0//EN
CALSCALE:GREGORIAN
METHOD:PUBLISH
X-WR-CALNAME:Sportschützenverein 1926 Weiler e.V.
X-ORIGINAL-URL:https://www.ssvweiler.de
X-WR-CALDESC:Veranstaltungen für Sportschützenverein 1926 Weiler e.V.
REFRESH-INTERVAL;VALUE=DURATION:PT1H
X-Robots-Tag:noindex
X-PUBLISHED-TTL:PT1H
BEGIN:VTIMEZONE
TZID:UTC
BEGIN:STANDARD
TZOFFSETFROM:+0000
TZOFFSETTO:+0000
TZNAME:UTC
DTSTART:20250101T000000
END:STANDARD
END:VTIMEZONE
BEGIN:VEVENT
DTSTART;TZID=UTC:20260509T000000
DTEND;TZID=UTC:20260510T235959
DTSTAMP:20260420T194113
CREATED:20260420T104601Z
LAST-MODIFIED:20260420T104601Z
UID:414-1778284800-1778457599@www.ssvweiler.de
SUMMARY:Einladung Vereinspokalschießen 2026
DESCRIPTION:Der Sportschützenverein 1926 Weiler e. V. lädt alle Vereine\, natürlich auch lose Zusammenschlüsse\, Firmen oder kurz gesagt\, alle\, die eine Mannschaft mit drei Schützen zusammen bekommen können\, zum diesjährigen Vereinspokalschießen ein. \nDatum:\nSamstag\, 9. Mai 2026\nSonntag\, 10. Mai 2026 \nOrt:\nSchützenhaus Weiler \nDie Anmeldung ist jederzeit über den QR-Code möglich\, oder natürlich auch per E-Mail an: \ninfo@ssvweiler.de \n \nGut Schuss! \nSportschützenverein 1926 Weiler e. V.
URL:https://www.ssvweiler.de/veranstaltung/einladung-vereinspokalschiessen-2026/
END:VEVENT
END:VCALENDAR